BEGIN:VCALENDAR
VERSION:2.0
PRODID:-//Plone.org//NONSGML plone.app.event//EN
X-WR-TIMEZONE:Europe/Berlin
BEGIN:VEVENT
SUMMARY:Curso de Biblia - Kloten
DTSTART;TZID=Europe/Zurich;VALUE=DATE-TIME:20260513T183000
DTEND;TZID=Europe/Zurich;VALUE=DATE-TIME:20260513T193000
DTSTAMP;VALUE=DATE-TIME:20260419T170058Z
UID:593a4aaacb53446b94c413683288416d@localhost:16090
CATEGORIES:Bildung
CREATED;VALUE=DATE-TIME:20260416T210508Z
DESCRIPTION: 
LAST-MODIFIED;VALUE=DATE-TIME:20260416T210508Z
URL:https://www.misioncatolica.ch/verowa-forum-events/curso-de-biblia-klot
 en-1
END:VEVENT
BEGIN:VTIMEZONE
TZID:Europe/Zurich
X-LIC-LOCATION:Europe/Zurich
BEGIN:DAYLIGHT
DTSTART;VALUE=DATE-TIME:20260329T030000
TZNAME:CEST
TZOFFSETFROM:+0100
TZOFFSETTO:+0200
END:DAYLIGHT
END:VTIMEZONE
END:VCALENDAR
