BEGIN:VCALENDAR
VERSION:2.0
PRODID:-//Plone.org//NONSGML plone.app.event//EN
X-WR-TIMEZONE:Europe/Berlin
BEGIN:VEVENT
SUMMARY:Curso de Biblia - Kloten
DTSTART;TZID=Europe/Zurich;VALUE=DATE-TIME:20260527T183000
DTEND;TZID=Europe/Zurich;VALUE=DATE-TIME:20260527T193000
DTSTAMP;VALUE=DATE-TIME:20260419T164959Z
UID:9f6bef4c1ddb4ef8add7bd714b4eb988@localhost:16090
CATEGORIES:Bildung
CREATED;VALUE=DATE-TIME:20260416T210510Z
DESCRIPTION: 
LAST-MODIFIED;VALUE=DATE-TIME:20260416T210510Z
URL:https://www.misioncatolica.ch/verowa-forum-events/curso-de-biblia-klot
 en-2
END:VEVENT
BEGIN:VTIMEZONE
TZID:Europe/Zurich
X-LIC-LOCATION:Europe/Zurich
BEGIN:DAYLIGHT
DTSTART;VALUE=DATE-TIME:20260329T030000
TZNAME:CEST
TZOFFSETFROM:+0100
TZOFFSETTO:+0200
END:DAYLIGHT
END:VTIMEZONE
END:VCALENDAR
