BEGIN:VCALENDAR
VERSION:2.0
PRODID:-//Plone.org//NONSGML plone.app.event//EN
X-WR-TIMEZONE:Europe/Berlin
BEGIN:VEVENT
SUMMARY:Misa
DTSTART;TZID=Europe/Zurich;VALUE=DATE-TIME:20260426T090000
DTEND;TZID=Europe/Zurich;VALUE=DATE-TIME:20260426T100000
DTSTAMP;VALUE=DATE-TIME:20260420T060511Z
UID:cc000b87b6354e5bb51fee98582bfb6d@localhost:16090
CATEGORIES:Gottesdienst
CREATED;VALUE=DATE-TIME:20260416T210507Z
DESCRIPTION: 
LAST-MODIFIED;VALUE=DATE-TIME:20260416T210507Z
LOCATION:Cripta de St. Gallus\;  Dübendorfstrasse 62\, 8051 Zürich
URL:https://www.misioncatolica.ch/verowa-forum-events/misa-5
END:VEVENT
BEGIN:VTIMEZONE
TZID:Europe/Zurich
X-LIC-LOCATION:Europe/Zurich
BEGIN:DAYLIGHT
DTSTART;VALUE=DATE-TIME:20260329T030000
TZNAME:CEST
TZOFFSETFROM:+0100
TZOFFSETTO:+0200
END:DAYLIGHT
END:VTIMEZONE
END:VCALENDAR
