BEGIN:VCALENDAR
VERSION:2.0
PRODID:-//Plone.org//NONSGML plone.app.event//EN
X-WR-TIMEZONE:Europe/Berlin
BEGIN:VEVENT
SUMMARY:Misa Familiar - «A celebrar con Jesús»
DTSTART;TZID=Europe/Zurich;VALUE=DATE-TIME:20260426T160000
DTEND;TZID=Europe/Zurich;VALUE=DATE-TIME:20260426T170000
DTSTAMP;VALUE=DATE-TIME:20260420T061158Z
UID:515da11c0b2a4179b1bf69c25aa338c4@localhost:16090
CATEGORIES:Gottesdienst,Gebet
CREATED;VALUE=DATE-TIME:20260416T210507Z
DESCRIPTION: 
LAST-MODIFIED;VALUE=DATE-TIME:20260416T210507Z
URL:https://www.misioncatolica.ch/verowa-forum-events/misa-familiar-a-cele
 brar-con-jesus
END:VEVENT
BEGIN:VTIMEZONE
TZID:Europe/Zurich
X-LIC-LOCATION:Europe/Zurich
BEGIN:DAYLIGHT
DTSTART;VALUE=DATE-TIME:20260329T030000
TZNAME:CEST
TZOFFSETFROM:+0100
TZOFFSETTO:+0200
END:DAYLIGHT
END:VTIMEZONE
END:VCALENDAR
