BEGIN:VCALENDAR
VERSION:2.0
PRODID:-//Plone.org//NONSGML plone.app.event//EN
X-WR-TIMEZONE:Europe/Berlin
BEGIN:VEVENT
SUMMARY:Padres y Madres en acción
DTSTART;TZID=Europe/Zurich;VALUE=DATE-TIME:20260509T170000
DTEND;TZID=Europe/Zurich;VALUE=DATE-TIME:20260509T190000
DTSTAMP;VALUE=DATE-TIME:20260419T165651Z
UID:0df91b491aab49478d34f7d2e7718400@localhost:16090
CATEGORIES:Bildung,Gemeinschaft
CREATED;VALUE=DATE-TIME:20260416T210508Z
DESCRIPTION: 
LAST-MODIFIED;VALUE=DATE-TIME:20260416T210508Z
URL:https://www.misioncatolica.ch/verowa-forum-events/padres-y-madres-en-a
 ccion
END:VEVENT
BEGIN:VTIMEZONE
TZID:Europe/Zurich
X-LIC-LOCATION:Europe/Zurich
BEGIN:DAYLIGHT
DTSTART;VALUE=DATE-TIME:20260329T030000
TZNAME:CEST
TZOFFSETFROM:+0100
TZOFFSETTO:+0200
END:DAYLIGHT
END:VTIMEZONE
END:VCALENDAR
